BEGIN:VCALENDAR
VERSION:2.0
PRODID:-//eventon.com NONSGML v1.0//EN
BEGIN:VEVENT
UID:69e736a6c7f11
DTSTAMP:20260421T093446
DTSTART:20220425T160000Z
DTEND:20220427T110000Z
LOCATION:The Rocks at Plas Curig Plas Curig\,  Capel Curig\,  Betws-y-Coed LL24 0EL
SUMMARY:Mountain Summit I
DESCRIPTION: Mountain Summit I
END:VEVENT
END:VCALENDAR